BEGIN:VCALENDAR
VERSION:2.0
PRODID:-//River of Life - ECPv6.15.20//NONSGML v1.0//EN
CALSCALE:GREGORIAN
METHOD:PUBLISH
X-ORIGINAL-URL:https://riverofliferaleigh.com
X-WR-CALDESC:Events for River of Life
REFRESH-INTERVAL;VALUE=DURATION:PT1H
X-Robots-Tag:noindex
X-PUBLISHED-TTL:PT1H
BEGIN:VTIMEZONE
TZID:America/New_York
BEGIN:DAYLIGHT
TZOFFSETFROM:-0500
TZOFFSETTO:-0400
TZNAME:EDT
DTSTART:20240310T070000
END:DAYLIGHT
BEGIN:STANDARD
TZOFFSETFROM:-0400
TZOFFSETTO:-0500
TZNAME:EST
DTSTART:20241103T060000
END:STANDARD
BEGIN:DAYLIGHT
TZOFFSETFROM:-0500
TZOFFSETTO:-0400
TZNAME:EDT
DTSTART:20250309T070000
END:DAYLIGHT
BEGIN:STANDARD
TZOFFSETFROM:-0400
TZOFFSETTO:-0500
TZNAME:EST
DTSTART:20251102T060000
END:STANDARD
BEGIN:DAYLIGHT
TZOFFSETFROM:-0500
TZOFFSETTO:-0400
TZNAME:EDT
DTSTART:20260308T070000
END:DAYLIGHT
BEGIN:STANDARD
TZOFFSETFROM:-0400
TZOFFSETTO:-0500
TZNAME:EST
DTSTART:20261101T060000
END:STANDARD
END:VTIMEZONE
BEGIN:VEVENT
DTSTART;TZID=America/New_York:20250920T140000
DTEND;TZID=America/New_York:20250920T160000
DTSTAMP:20260421T044048
CREATED:20250902T202721Z
LAST-MODIFIED:20250902T203005Z
UID:2677-1758376800-1758384000@riverofliferaleigh.com
SUMMARY:Awakening to the Spirit: Saturday Prophetic Workshop with Isabel Skúlason
DESCRIPTION:Awakening to the Spirit: Saturday Prophetic Workshop with Isabel Skúlason\nJoin us on Saturday\, September 20th from 2:00–4:00 PM for a hands-on workshop with Isabel Skúlason at River of Life Church. \nThis session is designed to strengthen your ability to hear God’s voice and walk in greater sensitivity to the Holy Spirit. Isabel will lead us through practical teaching\, activation\, and ministry that will open new dimensions of prophetic understanding. \nWhether you are new to prophetic ministry or have years of experience\, this afternoon will equip and inspire you to go deeper with God. \n📍 River of Life Church\n5508 Munford Road\, Raleigh\, NC 27612📅 Saturday\, September 20\, 2025 | 2:00 – 4:00 PM
URL:https://riverofliferaleigh.com/event/sept-20-isabel-skulason/
LOCATION:River of Life Church Raleigh\, 5508 MUNFORD RD\, Raleigh\, NC\, 27612\, United States
CATEGORIES:Guest Speaker
END:VEVENT
END:VCALENDAR