BEGIN:VCALENDAR
VERSION:2.0
PRODID:-//River of Life - ECPv6.15.20//NONSGML v1.0//EN
CALSCALE:GREGORIAN
METHOD:PUBLISH
X-WR-CALNAME:River of Life
X-ORIGINAL-URL:https://riverofliferaleigh.com
X-WR-CALDESC:Events for River of Life
REFRESH-INTERVAL;VALUE=DURATION:PT1H
X-Robots-Tag:noindex
X-PUBLISHED-TTL:PT1H
BEGIN:VTIMEZONE
TZID:America/New_York
BEGIN:DAYLIGHT
TZOFFSETFROM:-0500
TZOFFSETTO:-0400
TZNAME:EDT
DTSTART:20210314T070000
END:DAYLIGHT
BEGIN:STANDARD
TZOFFSETFROM:-0400
TZOFFSETTO:-0500
TZNAME:EST
DTSTART:20211107T060000
END:STANDARD
BEGIN:DAYLIGHT
TZOFFSETFROM:-0500
TZOFFSETTO:-0400
TZNAME:EDT
DTSTART:20220313T070000
END:DAYLIGHT
BEGIN:STANDARD
TZOFFSETFROM:-0400
TZOFFSETTO:-0500
TZNAME:EST
DTSTART:20221106T060000
END:STANDARD
BEGIN:DAYLIGHT
TZOFFSETFROM:-0500
TZOFFSETTO:-0400
TZNAME:EDT
DTSTART:20230312T070000
END:DAYLIGHT
BEGIN:STANDARD
TZOFFSETFROM:-0400
TZOFFSETTO:-0500
TZNAME:EST
DTSTART:20231105T060000
END:STANDARD
END:VTIMEZONE
BEGIN:VEVENT
DTSTART;TZID=America/New_York:20220322T070000
DTEND;TZID=America/New_York:20220322T110000
DTSTAMP:20260420T003411
CREATED:20220316T222127Z
LAST-MODIFIED:20220530T054112Z
UID:107-1647932400-1647946800@riverofliferaleigh.com
SUMMARY:Healing Rooms
DESCRIPTION:Healing Rooms of Raleigh is held every Tuesday from 11:00 to 3:00 pm. You do not have to be a member of River of Life Church to participate in Healing Rooms or to receive prayer for healing. Please call (919) 961-4289 for more information.
URL:https://riverofliferaleigh.com/event/healing-rooms/
LOCATION:River of Life Church Raleigh\, 5508 MUNFORD RD\, Raleigh\, NC\, 27612\, United States
CATEGORIES:Healing Room
ATTACH;FMTTYPE=image/jpeg:https://riverofliferaleigh.com/wp-content/uploads/2022/03/healing-rooms.jpg
END:VEVENT
BEGIN:VEVENT
DTSTART;TZID=America/New_York:20220322T070000
DTEND;TZID=America/New_York:20220322T110000
DTSTAMP:20260420T003411
CREATED:20220316T222127Z
LAST-MODIFIED:20220530T054112Z
UID:107-1647932400-1647946800@riverofliferaleigh.com
SUMMARY:Healing Rooms
DESCRIPTION:Healing Rooms of Raleigh is held every Tuesday from 11:00 to 3:00 pm. You do not have to be a member of River of Life Church to participate in Healing Rooms or to receive prayer for healing. Please call (919) 961-4289 for more information.
URL:https://riverofliferaleigh.com/event/healing-rooms/
LOCATION:River of Life Church Raleigh\, 5508 MUNFORD RD\, Raleigh\, NC\, 27612\, United States
CATEGORIES:Healing Room
ATTACH;FMTTYPE=image/jpeg:https://riverofliferaleigh.com/wp-content/uploads/2022/03/healing-rooms.jpg
END:VEVENT
BEGIN:VEVENT
DTSTART;TZID=America/New_York:20220322T070000
DTEND;TZID=America/New_York:20220322T110000
DTSTAMP:20260420T003411
CREATED:20220316T222127Z
LAST-MODIFIED:20220530T054112Z
UID:107-1647932400-1647946800@riverofliferaleigh.com
SUMMARY:Healing Rooms
DESCRIPTION:Healing Rooms of Raleigh is held every Tuesday from 11:00 to 3:00 pm. You do not have to be a member of River of Life Church to participate in Healing Rooms or to receive prayer for healing. Please call (919) 961-4289 for more information.
URL:https://riverofliferaleigh.com/event/healing-rooms/
LOCATION:River of Life Church Raleigh\, 5508 MUNFORD RD\, Raleigh\, NC\, 27612\, United States
CATEGORIES:Healing Room
ATTACH;FMTTYPE=image/jpeg:https://riverofliferaleigh.com/wp-content/uploads/2022/03/healing-rooms.jpg
END:VEVENT
BEGIN:VEVENT
DTSTART;TZID=America/New_York:20220322T070000
DTEND;TZID=America/New_York:20220322T110000
DTSTAMP:20260420T003411
CREATED:20220316T222127Z
LAST-MODIFIED:20220530T054112Z
UID:107-1647932400-1647946800@riverofliferaleigh.com
SUMMARY:Healing Rooms
DESCRIPTION:Healing Rooms of Raleigh is held every Tuesday from 11:00 to 3:00 pm. You do not have to be a member of River of Life Church to participate in Healing Rooms or to receive prayer for healing. Please call (919) 961-4289 for more information.
URL:https://riverofliferaleigh.com/event/healing-rooms/
LOCATION:River of Life Church Raleigh\, 5508 MUNFORD RD\, Raleigh\, NC\, 27612\, United States
CATEGORIES:Healing Room
ATTACH;FMTTYPE=image/jpeg:https://riverofliferaleigh.com/wp-content/uploads/2022/03/healing-rooms.jpg
END:VEVENT
BEGIN:VEVENT
DTSTART;TZID=America/New_York:20220322T070000
DTEND;TZID=America/New_York:20220322T110000
DTSTAMP:20260420T003411
CREATED:20220316T222127Z
LAST-MODIFIED:20220530T054112Z
UID:107-1647932400-1647946800@riverofliferaleigh.com
SUMMARY:Healing Rooms
DESCRIPTION:Healing Rooms of Raleigh is held every Tuesday from 11:00 to 3:00 pm. You do not have to be a member of River of Life Church to participate in Healing Rooms or to receive prayer for healing. Please call (919) 961-4289 for more information.
URL:https://riverofliferaleigh.com/event/healing-rooms/
LOCATION:River of Life Church Raleigh\, 5508 MUNFORD RD\, Raleigh\, NC\, 27612\, United States
CATEGORIES:Healing Room
ATTACH;FMTTYPE=image/jpeg:https://riverofliferaleigh.com/wp-content/uploads/2022/03/healing-rooms.jpg
END:VEVENT
BEGIN:VEVENT
DTSTART;TZID=America/New_York:20220322T070000
DTEND;TZID=America/New_York:20220322T110000
DTSTAMP:20260420T003411
CREATED:20220316T222127Z
LAST-MODIFIED:20220530T054112Z
UID:107-1647932400-1647946800@riverofliferaleigh.com
SUMMARY:Healing Rooms
DESCRIPTION:Healing Rooms of Raleigh is held every Tuesday from 11:00 to 3:00 pm. You do not have to be a member of River of Life Church to participate in Healing Rooms or to receive prayer for healing. Please call (919) 961-4289 for more information.
URL:https://riverofliferaleigh.com/event/healing-rooms/
LOCATION:River of Life Church Raleigh\, 5508 MUNFORD RD\, Raleigh\, NC\, 27612\, United States
CATEGORIES:Healing Room
ATTACH;FMTTYPE=image/jpeg:https://riverofliferaleigh.com/wp-content/uploads/2022/03/healing-rooms.jpg
END:VEVENT
END:VCALENDAR