BEGIN:VCALENDAR
VERSION:2.0
PRODID:-//River of Life - ECPv6.15.20//NONSGML v1.0//EN
CALSCALE:GREGORIAN
METHOD:PUBLISH
X-ORIGINAL-URL:https://riverofliferaleigh.com
X-WR-CALDESC:Events for River of Life
REFRESH-INTERVAL;VALUE=DURATION:PT1H
X-Robots-Tag:noindex
X-PUBLISHED-TTL:PT1H
BEGIN:VTIMEZONE
TZID:America/New_York
BEGIN:DAYLIGHT
TZOFFSETFROM:-0500
TZOFFSETTO:-0400
TZNAME:EDT
DTSTART:20240310T070000
END:DAYLIGHT
BEGIN:STANDARD
TZOFFSETFROM:-0400
TZOFFSETTO:-0500
TZNAME:EST
DTSTART:20241103T060000
END:STANDARD
BEGIN:DAYLIGHT
TZOFFSETFROM:-0500
TZOFFSETTO:-0400
TZNAME:EDT
DTSTART:20250309T070000
END:DAYLIGHT
BEGIN:STANDARD
TZOFFSETFROM:-0400
TZOFFSETTO:-0500
TZNAME:EST
DTSTART:20251102T060000
END:STANDARD
BEGIN:DAYLIGHT
TZOFFSETFROM:-0500
TZOFFSETTO:-0400
TZNAME:EDT
DTSTART:20260308T070000
END:DAYLIGHT
BEGIN:STANDARD
TZOFFSETFROM:-0400
TZOFFSETTO:-0500
TZNAME:EST
DTSTART:20261101T060000
END:STANDARD
END:VTIMEZONE
BEGIN:VEVENT
DTSTART;TZID=America/New_York:20251005T103000
DTEND;TZID=America/New_York:20251005T130000
DTSTAMP:20260421T125802
CREATED:20250902T203354Z
LAST-MODIFIED:20250902T203354Z
UID:2681-1759660200-1759669200@riverofliferaleigh.com
SUMMARY:Sunday Morning with Pastor Festus Nsoha
DESCRIPTION:Sunday Morning with Pastor Festus Nsoha\nWe are honored to welcome Pastor Festus Nsoha\, founder and Apostle of Holy Ghost End Time Ministries Int\, to River of Life Church on Sunday\, October 5th at 10:30 AM. \nPastor Festus carries a powerful international ministry marked by visions\, revelation\, and a deep insight into the mystery of Jesus Christ. His dynamic preaching and apostolic anointing have impacted lives around the world\, stirring faith\, igniting passion\, and pointing hearts to the finished work of the Cross. \nThis special Sunday morning service will be a time of worship\, encouragement\, and encounter with the presence of God. Whether you are seeking renewal\, healing\, or fresh direction for your life\, you will be blessed by Pastor Festus’s ministry. \n📍 River of Life Church\n5508 Munford Road\, Raleigh\, NC 27612📅 Sunday\, October 5\, 2025 | 10:30 AM \n✨ Mark your calendars\, invite your friends and family\, and don’t miss this opportunity to receive from a truly gifted minister of the Gospel. \nFor more about Pastor Festus Nsoha and Holy Ghost End Time Ministries Int\, visit:👉 https://www.cirkevoaza.cz/about-us/about-us/?lang=en
URL:https://riverofliferaleigh.com/event/sunday-morning-with-pastor-festus-nsoha/
LOCATION:River of Life Church Raleigh\, 5508 MUNFORD RD\, Raleigh\, NC\, 27612\, United States
CATEGORIES:Guest Speaker,Sunday Morning
END:VEVENT
END:VCALENDAR