BEGIN:VCALENDAR
VERSION:2.0
PRODID:-//River of Life - ECPv6.15.20//NONSGML v1.0//EN
CALSCALE:GREGORIAN
METHOD:PUBLISH
X-ORIGINAL-URL:https://riverofliferaleigh.com
X-WR-CALDESC:Events for River of Life
REFRESH-INTERVAL;VALUE=DURATION:PT1H
X-Robots-Tag:noindex
X-PUBLISHED-TTL:PT1H
BEGIN:VTIMEZONE
TZID:America/New_York
BEGIN:DAYLIGHT
TZOFFSETFROM:-0500
TZOFFSETTO:-0400
TZNAME:EDT
DTSTART:20220313T070000
END:DAYLIGHT
BEGIN:STANDARD
TZOFFSETFROM:-0400
TZOFFSETTO:-0500
TZNAME:EST
DTSTART:20221106T060000
END:STANDARD
BEGIN:DAYLIGHT
TZOFFSETFROM:-0500
TZOFFSETTO:-0400
TZNAME:EDT
DTSTART:20230312T070000
END:DAYLIGHT
BEGIN:STANDARD
TZOFFSETFROM:-0400
TZOFFSETTO:-0500
TZNAME:EST
DTSTART:20231105T060000
END:STANDARD
BEGIN:DAYLIGHT
TZOFFSETFROM:-0500
TZOFFSETTO:-0400
TZNAME:EDT
DTSTART:20240310T070000
END:DAYLIGHT
BEGIN:STANDARD
TZOFFSETFROM:-0400
TZOFFSETTO:-0500
TZNAME:EST
DTSTART:20241103T060000
END:STANDARD
END:VTIMEZONE
BEGIN:VEVENT
DTSTART;TZID=America/New_York:20230915T153000
DTEND;TZID=America/New_York:20230915T173000
DTSTAMP:20260419T110924
CREATED:20230907T202822Z
LAST-MODIFIED:20230907T204857Z
UID:1763-1694791800-1694799000@riverofliferaleigh.com
SUMMARY:Isabel & Thráinn Skúlason - Friday Night
DESCRIPTION:Discover the Extraordinary: A Night with Isabel & Thráinn Skúlason \n \nGet ready for a soul-stirring experience! On September 15th\, 2023\, at 7:30 PM\, River of Life Church presents a special event featuring renowned prophetic guests Isabel & Thráinn Skúlason. \nMeet the Prophetic Voices \nIsabel & Thráinn Skúlason are global messengers of hope\, healing\, and divine revelation. Isabel’s gift of discernment and Thráinn’s dynamic preaching have impacted lives worldwide. \nLearn more about them here. \nWhat to Expect \nJoin us for an evening of worship\, prophecy\, and life-changing teachings. Invite friends\, family\, and neighbors to River of Life Church on September 15th at 7:30 PM. \nPrepare for miracles and a fresh encounter with the Holy Spirit. \nDon’t miss this transformative event! \n  \nFollow us for updates: Facebook | YouTube | Instagram
URL:https://riverofliferaleigh.com/event/isabel-thrainn-skulason-sept/
LOCATION:River of Life Church Raleigh\, 5508 MUNFORD RD\, Raleigh\, NC\, 27612\, United States
CATEGORIES:Guest Speaker
ATTACH;FMTTYPE=image/png:https://riverofliferaleigh.com/wp-content/uploads/2023/09/Isabel-and-Thrainn.png
END:VEVENT
BEGIN:VEVENT
DTSTART;TZID=America/New_York:20230916T100000
DTEND;TZID=America/New_York:20230916T120000
DTSTAMP:20260419T110924
CREATED:20230907T203713Z
LAST-MODIFIED:20230907T204927Z
UID:1767-1694858400-1694865600@riverofliferaleigh.com
SUMMARY:Isabel & Thráinn Skúlason - Saturday Afternoon
DESCRIPTION:Invitation: A Special Gathering with Isabel & Thráinn Skúlason on September 16\, 2023! \nGet ready for a remarkable event that promises to deepen your spiritual journey. On September 16\, 2023\, from 2 PM to 4 PM\, River of Life Church is honored to host the renowned prophetic duo\, Isabel & Thráinn Skúlason. \nAbout Isabel & Thráinn Skúlason \nIsabel and Thráinn Skúlason are globally recognized for their prophetic ministry\, offering messages of hope\, healing\, and divine revelation. With a passion for sharing God’s love\, they have touched the lives of people across the world. \nWhat to Expect \n\nProfound Teachings: Isabel & Thráinn bring deep insights and wisdom to their teachings. Their ministry is marked by a dedication to helping individuals discover their spiritual purpose.\nInspiring Worship: Join us for a time of uplifting worship as we come together to praise and honor our Creator.\nCommunity and Connection: This event provides a unique opportunity to connect with like-minded individuals\, build friendships\, and strengthen the bonds of our church community.\n\nEvent Detail \nDate: September 16\, 2023\nTime: 2 PM – 4 PM\nLocation: River of Life Church at 5508 Munford Rd. Raleigh\, NC \nFor more information about Isabel & Thráinn Skúlason and their ministry\, visit their website here. \nMark your calendar and invite your friends\, family\, and neighbors to join us for this enriching gathering. It’s an occasion that promises to uplift your spirit and deepen your faith. \nStay tuned for updates\, and we can’t wait to see you on September 16th as we come together to experience the transformative power of faith and community.
URL:https://riverofliferaleigh.com/event/isabel-thrainn-skulason-sept-sat/
LOCATION:River of Life Church Raleigh\, 5508 MUNFORD RD\, Raleigh\, NC\, 27612\, United States
CATEGORIES:Guest Speaker
ATTACH;FMTTYPE=image/png:https://riverofliferaleigh.com/wp-content/uploads/2023/09/Isabel-and-Thrainn-Skulason.png
END:VEVENT
BEGIN:VEVENT
DTSTART;TZID=America/New_York:20230917T063000
DTEND;TZID=America/New_York:20230917T083000
DTSTAMP:20260419T110924
CREATED:20230907T204314Z
LAST-MODIFIED:20230907T205821Z
UID:1770-1694932200-1694939400@riverofliferaleigh.com
SUMMARY:Isabel & Thráinn Skúlason - Sunday Morning Service
DESCRIPTION:Invitation: Sunday Service with Isabel & Thráinn Skúlason on September 17\, 2023 \nExciting news for all our fellow believers and seekers of spiritual inspiration! On September 17\, 2023\, starting at 10:30 AM\, River of Life Church is delighted to welcome special guests\, Isabel & Thráinn Skúlason\, for a transformative Sunday service you won’t want to miss. \nAbout Isabel & Thráinn Skúlason \nIsabel and Thráinn Skúlason are esteemed figures in the world of ministry\, known for their prophetic insight\, messages of hope\, and commitment to spreading the love of God. Their ministry has reached and transformed lives globally. \nWhat to Expect \n\nEnriching Teachings: Isabel & Thráinn are renowned for their profound teachings that provide clarity\, purpose\, and spiritual growth. Prepare to be inspired and challenged in your faith journey.\nSoul-Stirring Worship: Join us for a powerful time of worship\, where we’ll unite our hearts and voices in praise and adoration.\nCommunity and Connection: Our Sunday service is not just an event; it’s an opportunity to connect with fellow believers\, strengthen your faith\, and build lasting relationships within our church family.\n\nEvent Details \nDate: September 17\, 2023\nTime: 10:30 AM\nLocation: River of Life Church at 5508 Munford Rd.\, Raleigh\, NC \nFor more information about Isabel & Thráinn Skúlason and their impactful ministry\, please visit their website here. \nBring your family\, friends\, and neighbors along for this spiritually uplifting experience. It’s a Sunday service that promises to renew your spirit and deepen your connection with the divine. \nStay tuned for further updates\, and we can’t wait to see you on September 17th as we come together to embrace the love\, wisdom\, and teachings of Isabel & Thráinn Skúlason.
URL:https://riverofliferaleigh.com/event/isabel-thrainn-skulason-sept-sun/
LOCATION:River of Life Church Raleigh\, 5508 MUNFORD RD\, Raleigh\, NC\, 27612\, United States
CATEGORIES:Guest Speaker
ATTACH;FMTTYPE=image/png:https://riverofliferaleigh.com/wp-content/uploads/2023/09/Isabel-and-Thrainn-Skulason-1.png
END:VEVENT
END:VCALENDAR