BEGIN:VCALENDAR
VERSION:2.0
PRODID:-//River of Life - ECPv6.15.20//NONSGML v1.0//EN
CALSCALE:GREGORIAN
METHOD:PUBLISH
X-ORIGINAL-URL:https://riverofliferaleigh.com
X-WR-CALDESC:Events for River of Life
REFRESH-INTERVAL;VALUE=DURATION:PT1H
X-Robots-Tag:noindex
X-PUBLISHED-TTL:PT1H
BEGIN:VTIMEZONE
TZID:America/New_York
BEGIN:DAYLIGHT
TZOFFSETFROM:-0500
TZOFFSETTO:-0400
TZNAME:EDT
DTSTART:20230312T070000
END:DAYLIGHT
BEGIN:STANDARD
TZOFFSETFROM:-0400
TZOFFSETTO:-0500
TZNAME:EST
DTSTART:20231105T060000
END:STANDARD
BEGIN:DAYLIGHT
TZOFFSETFROM:-0500
TZOFFSETTO:-0400
TZNAME:EDT
DTSTART:20240310T070000
END:DAYLIGHT
BEGIN:STANDARD
TZOFFSETFROM:-0400
TZOFFSETTO:-0500
TZNAME:EST
DTSTART:20241103T060000
END:STANDARD
BEGIN:DAYLIGHT
TZOFFSETFROM:-0500
TZOFFSETTO:-0400
TZNAME:EDT
DTSTART:20250309T070000
END:DAYLIGHT
BEGIN:STANDARD
TZOFFSETFROM:-0400
TZOFFSETTO:-0500
TZNAME:EST
DTSTART:20251102T060000
END:STANDARD
END:VTIMEZONE
BEGIN:VEVENT
DTSTART;TZID=America/New_York:20240830T190000
DTEND;TZID=America/New_York:20240830T213000
DTSTAMP:20260420T193235
CREATED:20240828T014311Z
LAST-MODIFIED:20240828T014618Z
UID:2345-1725044400-1725053400@riverofliferaleigh.com
SUMMARY:Healing Summit 2024: A Night of Restoration and Worship
DESCRIPTION:Date: Friday\, August 30\, 2024\nTime: 7:00 PM – 9:30 PM ET\nLocation: River of Life Church (Live Stream Host) \nEvent Description:\nRiver of Life Church invites you to a powerful evening of healing\, restoration\, and worship at the Healing Summit 2024! On Friday\, August 30th\, starting at 7:00 PM ET\, we will be hosting a live stream of this dynamic event featuring renowned speakers and leaders in the Christian community. Expect life-changing ministry from Apostle Tim\, Dutch Sheets\, Clay Nash\, Greg Hood\, Pat McManus\, and Ken Malone\, along with anointed worship by Oasis Worship. \nThis event is designed to bring you into an atmosphere of healing and transformation through the presence of God. Whether you need physical healing\, emotional breakthrough\, or spiritual renewal\, this night will be a time of divine encounter. \nCome as you are and experience the power of God’s love and grace. Bring your family\, friends\, and anyone who needs to be touched by God’s healing hand. All are welcome! \nKey Speakers & Worship: \n\nApostle Tim\nDutch Sheets\nClay Nash\nGreg Hood\nPat McManus\nKen Malone\nWorship by Oasis Worship\n\nContact Info:\nFor more information\, please contact us at 984-284-3352. \nNote: This is a live-streamed event\, hosted at River of Life Church.
URL:https://riverofliferaleigh.com/event/healing-summit-2024/
LOCATION:River of Life Church Raleigh\, 5508 MUNFORD RD\, Raleigh\, NC\, 27612\, United States
CATEGORIES:Live Stream
ATTACH;FMTTYPE=image/png:https://riverofliferaleigh.com/wp-content/uploads/2024/08/Healing-Summit.png
END:VEVENT
END:VCALENDAR