BEGIN:VCALENDAR
VERSION:2.0
PRODID:-//River of Life - ECPv6.15.20//NONSGML v1.0//EN
CALSCALE:GREGORIAN
METHOD:PUBLISH
X-ORIGINAL-URL:https://riverofliferaleigh.com
X-WR-CALDESC:Events for River of Life
REFRESH-INTERVAL;VALUE=DURATION:PT1H
X-Robots-Tag:noindex
X-PUBLISHED-TTL:PT1H
BEGIN:VTIMEZONE
TZID:America/New_York
BEGIN:DAYLIGHT
TZOFFSETFROM:-0500
TZOFFSETTO:-0400
TZNAME:EDT
DTSTART:20230312T070000
END:DAYLIGHT
BEGIN:STANDARD
TZOFFSETFROM:-0400
TZOFFSETTO:-0500
TZNAME:EST
DTSTART:20231105T060000
END:STANDARD
BEGIN:DAYLIGHT
TZOFFSETFROM:-0500
TZOFFSETTO:-0400
TZNAME:EDT
DTSTART:20240310T070000
END:DAYLIGHT
BEGIN:STANDARD
TZOFFSETFROM:-0400
TZOFFSETTO:-0500
TZNAME:EST
DTSTART:20241103T060000
END:STANDARD
BEGIN:DAYLIGHT
TZOFFSETFROM:-0500
TZOFFSETTO:-0400
TZNAME:EDT
DTSTART:20250309T070000
END:DAYLIGHT
BEGIN:STANDARD
TZOFFSETFROM:-0400
TZOFFSETTO:-0500
TZNAME:EST
DTSTART:20251102T060000
END:STANDARD
END:VTIMEZONE
BEGIN:VEVENT
DTSTART;TZID=America/New_York:20240603T080000
DTEND;TZID=America/New_York:20240603T170000
DTSTAMP:20260421T122939
CREATED:20240604T004314Z
LAST-MODIFIED:20240613T145244Z
UID:2111-1717401600-1717434000@riverofliferaleigh.com
SUMMARY:Special Sunday Morning Service with Guest Speaker Maksymillian Pyra!
DESCRIPTION:Event Details:\n📅 Date: Sunday\, June 9th\n🕥 Time: 10:30 AM\n📍 Location: River of Life Church \nYou’re Invited to a Special Sunday Morning Service!\nJoin us this Sunday\, June 9th\, at 10:30 AM for an extraordinary service at River of Life Church. We are excited to welcome our special guest speaker\, Maksymillian Pyra\, all the way from Poland! \nAbout Maksymillian Pyra:\nMaksymillian Pyra is a dynamic and inspiring speaker known for his passionate preaching and profound insights into the Word of God. Hailing from Poland\, Maksymillian has traveled extensively\, sharing his powerful message of faith and hope with congregations around the world. His unique perspective and heartfelt delivery have touched countless lives\, encouraging believers to deepen their relationship with God and live out their faith with boldness. \nWhy You Should Attend:\n\nBe Inspired: Maksymillian’s messages are filled with passion and inspiration\, offering fresh insights that will uplift and challenge you in your faith journey.\nEngage in Powerful Worship: Join us for a time of vibrant worship that prepares your heart to receive God’s Word.\nConnect with Community: Experience the warmth and fellowship of our church family. Meet new friends and strengthen existing relationships as we worship and learn together.\nSpiritual Growth: Gain practical wisdom and encouragement to apply in your daily life\, helping you grow spiritually and live out your faith with confidence.\n\nWhat to Expect:\nOur Sunday morning services are a time of dynamic worship\, powerful teaching\, and heartfelt community. With Maksymillian Pyra as our guest speaker\, this service promises to be especially impactful. Whether you’re a regular attendee or visiting for the first time\, you’ll find a welcoming atmosphere and a message that speaks to your heart. \nDon’t Miss This Special Service!\nMake plans to join us this Sunday at 10:30 AM for a memorable and transformative experience. Come with an open heart\, ready to be inspired and encouraged by Maksymillian Pyra’s powerful message. \nWe look forward to seeing you at River of Life Church on June 9th. Let’s come together to worship\, learn\, and grow in faith!
URL:https://riverofliferaleigh.com/event/maksymillian-pyra/
CATEGORIES:Guest Speaker,Sunday Morning
ATTACH;FMTTYPE=image/png:https://riverofliferaleigh.com/wp-content/uploads/2024/06/Maksymillian-Pyra.png
END:VEVENT
END:VCALENDAR